BEGIN:VCALENDAR
VERSION:2.0
PRODID:icalendar-ruby
CALSCALE:GREGORIAN
METHOD:PUBLISH
BEGIN:VEVENT
DTSTAMP:20260424T233731Z
UID:2-5277665@njbchurch.org
DTSTART:20260925T110000Z
DTEND:20260925T111000Z
CLASS:PUBLIC
CREATED:20260424T183032
DESCRIPTION:START YOUR WEEKDAY MORNINGS WITH DEVOTION WITH PASTOR COLLINS A
 T 7:00 AM. START YOUR DAY WITH THE WORD!\nCall 774.323.4400\n\nThe access 
 code is 6364067#
LAST-MODIFIED:20260424T183032
LOCATION:Phone
SUMMARY:Spiritual Coffee
URL;VALUE=URI:https://2021.njbchurch.org/events/spiritual-coffee/2026-09-25
ATTACH;FILENAME=NEW SPIRITUAL COFFEE NUMBER.jpg;FMTTYPE=image/jpeg:https://
 dq5pwpg1q8ru0.cloudfront.net/2025/09/24/16/46/45/bc21447a-c62a-47df-9f75-8
 346cfb3c553/NEW%20SPIRITUAL%20COFFEE%20NUMBER.jpg
END:VEVENT
END:VCALENDAR
